{
 "currentVersion": 10.81,
 "cimVersion": "2.6.0",
 "serviceDescription": "",
 "mapName": "Image_Aerienne_1979",
 "description": "",
 "copyrightText": "",
 "supportsDynamicLayers": true,
 "layers": [
  {
   "id": 0,
   "name": "Ortho_1979_1980",
   "parentLayerId": -1,
   "defaultVisibility": true,
   "subLayerIds": null,
   "minScale": 0,
   "maxScale": 0,
   "type": "Raster Layer",
   "supportsDynamicLegends": true
  }
 ],
 "tables": [],
 "spatialReference": {
  "wkid": 2144,
  "latestWkid": 2949,
  "xyTolerance": 0.001,
  "zTolerance": 0.001,
  "mTolerance": 0.001,
  "falseX": -5317800,
  "falseY": -10001100,
  "xyUnits": 10000,
  "falseZ": -100000,
  "zUnits": 10000,
  "falseM": -100000,
  "mUnits": 10000
 },
 "singleFusedMapCache": true,
 "tileInfo": {
  "rows": 256,
  "cols": 256,
  "dpi": 96,
  "format": "PNG",
  "compressionQuality": 0,
  "origin": {
   "x": -5317800,
   "y": 10001100
  },
  "spatialReference": {
   "wkid": 2144,
   "latestWkid": 2949,
   "xyTolerance": 0.001,
   "zTolerance": 0.001,
   "mTolerance": 0.001,
   "falseX": -5317800,
   "falseY": -10001100,
   "xyUnits": 4.503104285899046E8,
   "falseZ": -100000,
   "zUnits": 10000,
   "falseM": -100000,
   "mUnits": 10000
  },
  "lods": [
   {
    "level": 0,
    "resolution": 264.5838625010584,
    "scale": 1000000
   },
   {
    "level": 1,
    "resolution": 132.2919312505292,
    "scale": 500000
   },
   {
    "level": 2,
    "resolution": 39.687579375158755,
    "scale": 150000
   },
   {
    "level": 3,
    "resolution": 26.458386250105836,
    "scale": 100000
   },
   {
    "level": 4,
    "resolution": 19.843789687579378,
    "scale": 75000
   },
   {
    "level": 5,
    "resolution": 13.229193125052918,
    "scale": 50000
   },
   {
    "level": 6,
    "resolution": 6.614596562526459,
    "scale": 25000
   },
   {
    "level": 7,
    "resolution": 2.6458386250105836,
    "scale": 10000
   },
   {
    "level": 8,
    "resolution": 1.3229193125052918,
    "scale": 5000
   },
   {
    "level": 9,
    "resolution": 0.26458386250105836,
    "scale": 1000
   }
  ]
 },
 "initialExtent": {
  "xmin": 180827.540138446,
  "ymin": 5124181.310825898,
  "xmax": 266674.8742069226,
  "ymax": 5179349.868921067,
  "spatialReference": {
   "wkid": 2144,
   "latestWkid": 2949,
   "xyTolerance": 0.001,
   "zTolerance": 0.001,
   "mTolerance": 0.001,
   "falseX": -5317800,
   "falseY": -10001100,
   "xyUnits": 10000,
   "falseZ": -100000,
   "zUnits": 10000,
   "falseM": -100000,
   "mUnits": 10000
  }
 },
 "fullExtent": {
  "xmin": 186530.10940782118,
  "ymin": 5126688.972592592,
  "xmax": 260972.30493754914,
  "ymax": 5176842.207177445,
  "spatialReference": {
   "wkid": 2144,
   "latestWkid": 2949,
   "xyTolerance": 0.001,
   "zTolerance": 0.001,
   "mTolerance": 0.001,
   "falseX": -5317800,
   "falseY": -10001100,
   "xyUnits": 10000,
   "falseZ": -100000,
   "zUnits": 10000,
   "falseM": -100000,
   "mUnits": 10000
  }
 },
 "minScale": 1000000,
 "maxScale": 1000,
 "minLOD": 0,
 "maxLOD": 9,
 "units": "esriMeters",
 "supportedImageFormatTypes": "PNG32,PNG24,PNG,JPG,DIB,TIFF,EMF,PS,PDF,GIF,SVG,SVGZ,BMP",
 "documentInfo": {
  "Title": "Map",
  "Author": "",
  "Comments": "",
  "Subject": "",
  "Category": "",
  "AntialiasingMode": "Fast",
  "TextAntialiasingMode": "Force",
  "Keywords": "MRC330,Image Aerienne"
 },
 "supportsQueryDomains": true,
 "capabilities": "Map,Query,Data",
 "supportedQueryFormats": "JSON, geoJSON, PBF",
 "exportTilesAllowed": false,
 "referenceScale": 0.0,
 "datumTransformations": [
  {
   "geoTransforms": [
    {
     "wkid": 108190,
     "latestWkid": 108190,
     "transformForward": false,
     "name": "WGS_1984_(ITRF00)_To_NAD_1983"
    },
    {
     "wkid": 1946,
     "latestWkid": 1946,
     "transformForward": false,
     "name": "NAD_1983_CSRS_To_WGS_1984_2"
    }
   ]
  },
  {
   "geoTransforms": [
    {
     "wkid": 1946,
     "latestWkid": 1946,
     "transformForward": true,
     "name": "NAD_1983_CSRS_To_WGS_1984_2"
    },
    {
     "wkid": 108190,
     "latestWkid": 108190,
     "transformForward": true,
     "name": "WGS_1984_(ITRF00)_To_NAD_1983"
    }
   ]
  }
 ],
 "supportsDatumTransformation": true,
 "archivingInfo": {
  "supportsHistoricMoment": false
 },
 "supportsClipping": true,
 "supportsSpatialFilter": true,
 "supportsQueryDataElements": true,
 "maxRecordCount": 5000,
 "maxImageHeight": 7000,
 "maxImageWidth": 7000,
 "supportedExtensions": "",
 "serviceItemId": "e431acc13b9444c1a6a3afc628dde04e"
}
